BEGIN:VCALENDAR
VERSION:2.0
PRODID:-//Secteur Hull-Aylmer - ECPv5.14.0.4//NONSGML v1.0//EN
CALSCALE:GREGORIAN
METHOD:PUBLISH
X-WR-CALNAME:Secteur Hull-Aylmer
X-ORIGINAL-URL:https://hullaylmer.areq.lacsq.org
X-WR-CALDESC:évènements pour Secteur Hull-Aylmer
BEGIN:VTIMEZONE
TZID:America/New_York
BEGIN:DAYLIGHT
TZOFFSETFROM:-0500
TZOFFSETTO:-0400
TZNAME:EDT
DTSTART:20250309T070000
END:DAYLIGHT
BEGIN:STANDARD
TZOFFSETFROM:-0400
TZOFFSETTO:-0500
TZNAME:EST
DTSTART:20251102T060000
END:STANDARD
END:VTIMEZONE
BEGIN:VEVENT
DTSTART;TZID=America/New_York:20250211T091500
DTEND;TZID=America/New_York:20250211T091500
DTSTAMP:20260424T225206
CREATED:20250130T143109Z
LAST-MODIFIED:20250130T143246Z
UID:3069-1739265300-1739265300@hullaylmer.areq.lacsq.org
SUMMARY:Déjeuner 11 février 2025
DESCRIPTION:Déjeuner 11 février 2025
URL:https://hullaylmer.areq.lacsq.org/event/3069/
LOCATION:La Station\, 611\, boul St-Joseph\, Gatineau\, QC\, J8Y 4A6\, Canada
END:VEVENT
END:VCALENDAR