BEGIN:VCALENDAR
VERSION:2.0
PRODID:-//Secteur Hull-Aylmer - ECPv5.14.0.4//NONSGML v1.0//EN
CALSCALE:GREGORIAN
METHOD:PUBLISH
X-WR-CALNAME:Secteur Hull-Aylmer
X-ORIGINAL-URL:https://hullaylmer.areq.lacsq.org
X-WR-CALDESC:évènements pour Secteur Hull-Aylmer
BEGIN:VTIMEZONE
TZID:America/New_York
BEGIN:DAYLIGHT
TZOFFSETFROM:-0500
TZOFFSETTO:-0400
TZNAME:EDT
DTSTART:20250309T070000
END:DAYLIGHT
BEGIN:STANDARD
TZOFFSETFROM:-0400
TZOFFSETTO:-0500
TZNAME:EST
DTSTART:20251102T060000
END:STANDARD
END:VTIMEZONE
BEGIN:VEVENT
DTSTART;TZID=America/New_York:20250513T090000
DTEND;TZID=America/New_York:20250513T090000
DTSTAMP:20260424T193650
CREATED:20250408T165328Z
LAST-MODIFIED:20250408T165328Z
UID:3125-1747126800-1747126800@hullaylmer.areq.lacsq.org
SUMMARY:Assemblée générale régionale
DESCRIPTION:Assemblée générale régionale le 13 mai 2025
URL:https://hullaylmer.areq.lacsq.org/event/assemblee-generale-regionale-4/
LOCATION:Domaine de L’Ange-Gardien\, 1031\, chemin Pierre-Laporte\, L'Ange-Gardien\, Québec\, J8L0E9\, Canada
END:VEVENT
END:VCALENDAR