BEGIN:VCALENDAR
VERSION:2.0
PRODID:-//Secteur Hull-Aylmer - ECPv5.14.0.4//NONSGML v1.0//EN
CALSCALE:GREGORIAN
METHOD:PUBLISH
X-WR-CALNAME:Secteur Hull-Aylmer
X-ORIGINAL-URL:https://hullaylmer.areq.lacsq.org
X-WR-CALDESC:évènements pour Secteur Hull-Aylmer
BEGIN:VTIMEZONE
TZID:America/New_York
BEGIN:DAYLIGHT
TZOFFSETFROM:-0500
TZOFFSETTO:-0400
TZNAME:EDT
DTSTART:20250309T070000
END:DAYLIGHT
BEGIN:STANDARD
TZOFFSETFROM:-0400
TZOFFSETTO:-0500
TZNAME:EST
DTSTART:20251102T060000
END:STANDARD
END:VTIMEZONE
BEGIN:VEVENT
DTSTART;TZID=America/New_York:20251104T093000
DTEND;TZID=America/New_York:20251104T093000
DTSTAMP:20260424T175827
CREATED:20251017T222817Z
LAST-MODIFIED:20251017T222817Z
UID:3186-1762248600-1762248600@hullaylmer.areq.lacsq.org
SUMMARY:Conférence L'intelligence artificielle
DESCRIPTION:Conférence L’intelligence artificielle
URL:https://hullaylmer.areq.lacsq.org/event/conference-lintelligence-artificielle/
LOCATION:Église Saint-Paul\, 26 chemin Eardley\, Gatineau\, Québec\, J9H0K2\, Canada
END:VEVENT
END:VCALENDAR