BEGIN:VCALENDAR
VERSION:2.0
PRODID:-//Secteur Hull-Aylmer - ECPv5.14.0.4//NONSGML v1.0//EN
CALSCALE:GREGORIAN
METHOD:PUBLISH
X-WR-CALNAME:Secteur Hull-Aylmer
X-ORIGINAL-URL:https://hullaylmer.areq.lacsq.org
X-WR-CALDESC:évènements pour Secteur Hull-Aylmer
BEGIN:VTIMEZONE
TZID:America/New_York
BEGIN:DAYLIGHT
TZOFFSETFROM:-0500
TZOFFSETTO:-0400
TZNAME:EDT
DTSTART:20260308T070000
END:DAYLIGHT
BEGIN:STANDARD
TZOFFSETFROM:-0400
TZOFFSETTO:-0500
TZNAME:EST
DTSTART:20261101T060000
END:STANDARD
END:VTIMEZONE
BEGIN:VEVENT
DTSTART;TZID=America/New_York:20260421T091500
DTEND;TZID=America/New_York:20260421T091500
DTSTAMP:20260424T124721
CREATED:20260412T231608Z
LAST-MODIFIED:20260412T231608Z
UID:3307-1776762900-1776762900@hullaylmer.areq.lacsq.org
SUMMARY:Déjeuner
DESCRIPTION:Dejeuner (1)
URL:https://hullaylmer.areq.lacsq.org/event/dejeuner-9/
LOCATION:La Station\, 611\, boul St-Joseph\, Gatineau\, QC\, J8Y 4A6\, Canada
END:VEVENT
END:VCALENDAR