BEGIN:VCALENDAR
VERSION:2.0
PRODID:-//Secteur Hull-Aylmer - ECPv5.14.0.4//NONSGML v1.0//EN
CALSCALE:GREGORIAN
METHOD:PUBLISH
X-WR-CALNAME:Secteur Hull-Aylmer
X-ORIGINAL-URL:https://hullaylmer.areq.lacsq.org
X-WR-CALDESC:évènements pour Secteur Hull-Aylmer
BEGIN:VTIMEZONE
TZID:America/New_York
BEGIN:DAYLIGHT
TZOFFSETFROM:-0500
TZOFFSETTO:-0400
TZNAME:EDT
DTSTART:20250309T070000
END:DAYLIGHT
BEGIN:STANDARD
TZOFFSETFROM:-0400
TZOFFSETTO:-0500
TZNAME:EST
DTSTART:20251102T060000
END:STANDARD
END:VTIMEZONE
BEGIN:VEVENT
DTSTART;TZID=America/New_York:20250307T093000
DTEND;TZID=America/New_York:20250307T093000
DTSTAMP:20260424T193817
CREATED:20250211T192011Z
LAST-MODIFIED:20250211T192011Z
UID:3080-1741339800-1741339800@hullaylmer.areq.lacsq.org
SUMMARY:Le comité des femmes Outaouais AREQ
DESCRIPTION:Le comité des femmes AREQ Outaouais
URL:https://hullaylmer.areq.lacsq.org/event/le-comite-des-femmes-outaouais-areq/
LOCATION:Centre Père Arthur Guertin\, 16\, rue Bériault\, Gatineau\, Québec\, J8X1A3\, Canada
END:VEVENT
END:VCALENDAR