BEGIN:VCALENDAR
VERSION:2.0
PRODID:-//Secteur Hull-Aylmer - ECPv5.14.0.4//NONSGML v1.0//EN
CALSCALE:GREGORIAN
METHOD:PUBLISH
X-WR-CALNAME:Secteur Hull-Aylmer
X-ORIGINAL-URL:https://hullaylmer.areq.lacsq.org
X-WR-CALDESC:évènements pour Secteur Hull-Aylmer
BEGIN:VTIMEZONE
TZID:America/New_York
BEGIN:DAYLIGHT
TZOFFSETFROM:-0500
TZOFFSETTO:-0400
TZNAME:EDT
DTSTART:20250309T070000
END:DAYLIGHT
BEGIN:STANDARD
TZOFFSETFROM:-0400
TZOFFSETTO:-0500
TZNAME:EST
DTSTART:20251102T060000
END:STANDARD
END:VTIMEZONE
BEGIN:VEVENT
DTSTART;TZID=America/New_York:20251021T083000
DTEND;TZID=America/New_York:20251021T083000
DTSTAMP:20260424T175914
CREATED:20251005T164624Z
LAST-MODIFIED:20251005T164624Z
UID:3174-1761035400-1761035400@hullaylmer.areq.lacsq.org
SUMMARY:Rencontre régionale le mardi 21 octobre 2025
DESCRIPTION:Rencontre régionale le mardi 21 octobre 2025
URL:https://hullaylmer.areq.lacsq.org/event/rencontre-regionale-le-mardi-21-octobre-2025/
LOCATION:Domaine des Trembles\, 250\, boul. St-Raymond\, Gatineau\, QC\, J9A0B1\, Canada
END:VEVENT
END:VCALENDAR