BEGIN:VCALENDAR
VERSION:2.0
PRODID:-//Secteur Hull-Aylmer - ECPv5.14.0.4//NONSGML v1.0//EN
CALSCALE:GREGORIAN
METHOD:PUBLISH
X-WR-CALNAME:Secteur Hull-Aylmer
X-ORIGINAL-URL:https://hullaylmer.areq.lacsq.org
X-WR-CALDESC:évènements pour Secteur Hull-Aylmer
BEGIN:VTIMEZONE
TZID:America/New_York
BEGIN:DAYLIGHT
TZOFFSETFROM:-0500
TZOFFSETTO:-0400
TZNAME:EDT
DTSTART:20260308T070000
END:DAYLIGHT
BEGIN:STANDARD
TZOFFSETFROM:-0400
TZOFFSETTO:-0500
TZNAME:EST
DTSTART:20261101T060000
END:STANDARD
END:VTIMEZONE
BEGIN:VEVENT
DTSTART;TZID=America/New_York:20260428T133000
DTEND;TZID=America/New_York:20260428T133000
DTSTAMP:20260424T142059
CREATED:20260410T171046Z
LAST-MODIFIED:20260410T171251Z
UID:3299-1777383000-1777383000@hullaylmer.areq.lacsq.org
SUMMARY:Un petit thé
DESCRIPTION:Un petit thé
URL:https://hullaylmer.areq.lacsq.org/event/un-petit-the/
LOCATION:Domaine des Trembles\, 250\, boul. St-Raymond\, Gatineau\, QC\, J9A0B1\, Canada
END:VEVENT
END:VCALENDAR