BEGIN:VCALENDAR
VERSION:2.0
PRODID:-//Secteur Hull-Aylmer - ECPv5.14.0.4//NONSGML v1.0//EN
CALSCALE:GREGORIAN
METHOD:PUBLISH
X-WR-CALNAME:Secteur Hull-Aylmer
X-ORIGINAL-URL:https://hullaylmer.areq.lacsq.org
X-WR-CALDESC:évènements pour Secteur Hull-Aylmer
BEGIN:VTIMEZONE
TZID:America/New_York
BEGIN:DAYLIGHT
TZOFFSETFROM:-0500
TZOFFSETTO:-0400
TZNAME:EDT
DTSTART:20260308T070000
END:DAYLIGHT
BEGIN:STANDARD
TZOFFSETFROM:-0400
TZOFFSETTO:-0500
TZNAME:EST
DTSTART:20261101T060000
END:STANDARD
END:VTIMEZONE
BEGIN:VEVENT
DTSTART;TZID=America/New_York:20260703T000000
DTEND;TZID=America/New_York:20260711T000000
DTSTAMP:20260424T161423
CREATED:20260115T031019Z
LAST-MODIFIED:20260115T031328Z
UID:3230-1783036800-1783728000@hullaylmer.areq.lacsq.org
SUMMARY:Voyage en Gaspésie
DESCRIPTION:voyage en Gaspésie
URL:https://hullaylmer.areq.lacsq.org/event/voyage-en-gaspesie/
END:VEVENT
END:VCALENDAR